BEGIN:VCALENDAR
VERSION:2.0
PRODID:-//Taekwondo Union Saar e.V. - ECPv6.8.3//NONSGML v1.0//EN
CALSCALE:GREGORIAN
METHOD:PUBLISH
X-ORIGINAL-URL:https://wwwn.tusaar.de
X-WR-CALDESC:Veranstaltungen für Taekwondo Union Saar e.V.
REFRESH-INTERVAL;VALUE=DURATION:PT1H
X-Robots-Tag:noindex
X-PUBLISHED-TTL:PT1H
BEGIN:VTIMEZONE
TZID:Europe/Berlin
BEGIN:DAYLIGHT
TZOFFSETFROM:+0100
TZOFFSETTO:+0200
TZNAME:CEST
DTSTART:20240331T010000
END:DAYLIGHT
BEGIN:STANDARD
TZOFFSETFROM:+0200
TZOFFSETTO:+0100
TZNAME:CET
DTSTART:20241027T010000
END:STANDARD
END:VTIMEZONE
BEGIN:VEVENT
DTSTART;TZID=Europe/Berlin:20241012T090000
DTEND;TZID=Europe/Berlin:20241012T170000
DTSTAMP:20260423T230903
CREATED:20240904T121944Z
LAST-MODIFIED:20240913T015819Z
UID:276-1728723600-1728752400@wwwn.tusaar.de
SUMMARY:Bundesbreitensportlehrgang Bad Segeberg 2024
DESCRIPTION:Zur Ausschreibung \nMeldebogen
URL:https://wwwn.tusaar.de/event/bundesbreitensportlehrgang-bad-segeberg-2024/
LOCATION:Kreissporthalle Bad Segeberg Burgfeldstraße 41 23795 Bad Segeberg\, Burgfeldstraße 41\, Bad Segeberg\, 23795
CATEGORIES:Weiterbildung
ATTACH;FMTTYPE=image/png:https://wwwn.tusaar.de/wp-content/uploads/2024/09/dtu_logo.png
END:VEVENT
END:VCALENDAR