BEGIN:VCALENDAR
VERSION:2.0
PRODID:-//Taekwondo Union Saar e.V. - ECPv6.8.3//NONSGML v1.0//EN
CALSCALE:GREGORIAN
METHOD:PUBLISH
X-ORIGINAL-URL:https://wwwn.tusaar.de
X-WR-CALDESC:Veranstaltungen für Taekwondo Union Saar e.V.
REFRESH-INTERVAL;VALUE=DURATION:PT1H
X-Robots-Tag:noindex
X-PUBLISHED-TTL:PT1H
BEGIN:VTIMEZONE
TZID:Europe/Berlin
BEGIN:DAYLIGHT
TZOFFSETFROM:+0100
TZOFFSETTO:+0200
TZNAME:CEST
DTSTART:20240331T010000
END:DAYLIGHT
BEGIN:STANDARD
TZOFFSETFROM:+0200
TZOFFSETTO:+0100
TZNAME:CET
DTSTART:20241027T010000
END:STANDARD
END:VTIMEZONE
BEGIN:VEVENT
DTSTART;TZID=Europe/Berlin:20241109T080000
DTEND;TZID=Europe/Berlin:20241109T200000
DTSTAMP:20260423T213512
CREATED:20240803T083512Z
LAST-MODIFIED:20241017T145318Z
UID:115-1731139200-1731182400@wwwn.tusaar.de
SUMMARY:Trainer C Ausbildungsmodul
DESCRIPTION:Das nächste Trainermodul findet am 9.11.2024 am Sportcampus Saar statt. \nHier geht es zur Ausschreibung
URL:https://wwwn.tusaar.de/event/trainermodul-abfrage-ende/
LOCATION:Saarland
CATEGORIES:Weiterbildung
ATTACH;FMTTYPE=image/jpeg:https://wwwn.tusaar.de/wp-content/uploads/2024/08/room-2192484_1920.jpg
ORGANIZER;CN="TU Saar e.V.":MAILTO:info@tusaar.de
END:VEVENT
END:VCALENDAR