BEGIN:VCALENDAR
VERSION:2.0
PRODID:-//Taekwondo Union Saar e.V. - ECPv6.8.3//NONSGML v1.0//EN
CALSCALE:GREGORIAN
METHOD:PUBLISH
X-WR-CALNAME:Taekwondo Union Saar e.V.
X-ORIGINAL-URL:https://wwwn.tusaar.de
X-WR-CALDESC:Veranstaltungen für Taekwondo Union Saar e.V.
REFRESH-INTERVAL;VALUE=DURATION:PT1H
X-Robots-Tag:noindex
X-PUBLISHED-TTL:PT1H
BEGIN:VTIMEZONE
TZID:Europe/Berlin
BEGIN:DAYLIGHT
TZOFFSETFROM:+0100
TZOFFSETTO:+0200
TZNAME:CEST
DTSTART:20240331T010000
END:DAYLIGHT
BEGIN:STANDARD
TZOFFSETFROM:+0200
TZOFFSETTO:+0100
TZNAME:CET
DTSTART:20241027T010000
END:STANDARD
END:VTIMEZONE
BEGIN:VEVENT
DTSTART;TZID=Europe/Berlin:20241213T180000
DTEND;TZID=Europe/Berlin:20241213T210000
DTSTAMP:20260423T195638
CREATED:20241119T185449Z
LAST-MODIFIED:20241119T190556Z
UID:487-1734112800-1734123600@wwwn.tusaar.de
SUMMARY:Ordentliche Mitgliederversammlung der T.U.Saar e.V
DESCRIPTION:Am Freitag\, dem 13. Dezember 2024 findet die ordentliche Mitgliederversammlung der T.U.Saar e.V. statt. \nBeginn ist 18:00 Uhr in Tagungsraum 41 des Sportcampus Saar. \nDie vorläufige Tagesordnung wurde den jeweiligen Vereinsvertretern zugesandt und wird demnächst auch hier veröffentlicht.
URL:https://wwwn.tusaar.de/event/ordentliche-mitgliederversammlung-der-t-u-saar-e-v/
LOCATION:SPORTCAMPUS SAAR\, Hermann-Neuberger-Straße 4\, Saarbrücken\, Saarland\, 66123\, Deutschland
CATEGORIES:Mitgliederversammlung
ATTACH;FMTTYPE=image/jpeg:https://wwwn.tusaar.de/wp-content/uploads/2024/08/lady-justice-2388500_1920.jpg
END:VEVENT
END:VCALENDAR