BEGIN:VCALENDAR
VERSION:2.0
PRODID:-//Taekwondo Union Saar e.V. - ECPv6.8.3//NONSGML v1.0//EN
CALSCALE:GREGORIAN
METHOD:PUBLISH
X-WR-CALNAME:Taekwondo Union Saar e.V.
X-ORIGINAL-URL:https://wwwn.tusaar.de
X-WR-CALDESC:Veranstaltungen für Taekwondo Union Saar e.V.
REFRESH-INTERVAL;VALUE=DURATION:PT1H
X-Robots-Tag:noindex
X-PUBLISHED-TTL:PT1H
BEGIN:VTIMEZONE
TZID:Europe/Berlin
BEGIN:DAYLIGHT
TZOFFSETFROM:+0100
TZOFFSETTO:+0200
TZNAME:CEST
DTSTART:20240331T010000
END:DAYLIGHT
BEGIN:STANDARD
TZOFFSETFROM:+0200
TZOFFSETTO:+0100
TZNAME:CET
DTSTART:20241027T010000
END:STANDARD
END:VTIMEZONE
BEGIN:VEVENT
DTSTART;VALUE=DATE:20241005
DTEND;VALUE=DATE:20241006
DTSTAMP:20260423T213258
CREATED:20240802T133138Z
LAST-MODIFIED:20240803T100954Z
UID:54-1728086400-1728172799@wwwn.tusaar.de
SUMMARY:offene Saarlandmeisterschaft Poomsae 2024
DESCRIPTION:offene Saarlandmeisterschaft Technik/Poomsae\nteilnahmeberechtigt sind alle Mitglieder der DTU\, ETU\, WT\nAusrichtender Verein TKD SAM Bardenbach\nOrt: Herbert Klein Halle\, Wadern
URL:https://wwwn.tusaar.de/event/offene-saarlandmeisterschaft-poomsae-2024/
LOCATION:Herbert Klein Halle\, Franz-Haas-Straße\, Wadern\, Saarland\, 66687\, Deutschland
CATEGORIES:Wettkampf
ATTACH;FMTTYPE=image/jpeg:https://wwwn.tusaar.de/wp-content/uploads/2024/08/Taek110616SaarM044.jpg
END:VEVENT
BEGIN:VEVENT
DTSTART;TZID=Europe/Berlin:20241008T180000
DTEND;TZID=Europe/Berlin:20241008T200000
DTSTAMP:20260423T213258
CREATED:20240917T061935Z
LAST-MODIFIED:20240917T062212Z
UID:330-1728410400-1728417600@wwwn.tusaar.de
SUMMARY:Sportabzeichen DTU Prüfer
DESCRIPTION:Der Bereich Breitensport der DTU bietet am 08.10.2024 eine Online-Schulung zum Taekwondo-Sportabzeichen an. \n\n\n\nWeitere Infos findet Ihr in dieser Ausschreibung.
URL:https://wwwn.tusaar.de/event/sportabzeichen-dtu-pruefer/
LOCATION:Saarland
CATEGORIES:Weiterbildung
END:VEVENT
BEGIN:VEVENT
DTSTART;TZID=Europe/Berlin:20241012T090000
DTEND;TZID=Europe/Berlin:20241012T170000
DTSTAMP:20260423T213258
CREATED:20240904T121944Z
LAST-MODIFIED:20240913T015819Z
UID:276-1728723600-1728752400@wwwn.tusaar.de
SUMMARY:Bundesbreitensportlehrgang Bad Segeberg 2024
DESCRIPTION:Zur Ausschreibung \nMeldebogen
URL:https://wwwn.tusaar.de/event/bundesbreitensportlehrgang-bad-segeberg-2024/
LOCATION:Kreissporthalle Bad Segeberg Burgfeldstraße 41 23795 Bad Segeberg\, Burgfeldstraße 41\, Bad Segeberg\, 23795
CATEGORIES:Weiterbildung
ATTACH;FMTTYPE=image/png:https://wwwn.tusaar.de/wp-content/uploads/2024/09/dtu_logo.png
END:VEVENT
END:VCALENDAR